BEGIN:VCALENDAR
VERSION:2.0
PRODID:-//Parrocchia San Michele Arcangelo - ECPv6.15.20//NONSGML v1.0//EN
CALSCALE:GREGORIAN
METHOD:PUBLISH
X-WR-CALNAME:Parrocchia San Michele Arcangelo
X-ORIGINAL-URL:http://parrocchiamonzambano.it
X-WR-CALDESC:Eventi per Parrocchia San Michele Arcangelo
REFRESH-INTERVAL;VALUE=DURATION:PT1H
X-Robots-Tag:noindex
X-PUBLISHED-TTL:PT1H
BEGIN:VTIMEZONE
TZID:Europe/Rome
BEGIN:DAYLIGHT
TZOFFSETFROM:+0100
TZOFFSETTO:+0200
TZNAME:CEST
DTSTART:20250330T010000
END:DAYLIGHT
BEGIN:STANDARD
TZOFFSETFROM:+0200
TZOFFSETTO:+0100
TZNAME:CET
DTSTART:20251026T010000
END:STANDARD
BEGIN:DAYLIGHT
TZOFFSETFROM:+0100
TZOFFSETTO:+0200
TZNAME:CEST
DTSTART:20260329T010000
END:DAYLIGHT
BEGIN:STANDARD
TZOFFSETFROM:+0200
TZOFFSETTO:+0100
TZNAME:CET
DTSTART:20261025T010000
END:STANDARD
BEGIN:DAYLIGHT
TZOFFSETFROM:+0100
TZOFFSETTO:+0200
TZNAME:CEST
DTSTART:20270328T010000
END:DAYLIGHT
BEGIN:STANDARD
TZOFFSETFROM:+0200
TZOFFSETTO:+0100
TZNAME:CET
DTSTART:20271031T010000
END:STANDARD
BEGIN:DAYLIGHT
TZOFFSETFROM:+0100
TZOFFSETTO:+0200
TZNAME:CEST
DTSTART:20280326T010000
END:DAYLIGHT
BEGIN:STANDARD
TZOFFSETFROM:+0200
TZOFFSETTO:+0100
TZNAME:CET
DTSTART:20281029T010000
END:STANDARD
END:VTIMEZONE
BEGIN:VEVENT
DTSTART;TZID=Europe/Rome:20260110T000000
DTEND;TZID=Europe/Rome:20270110T235959
DTSTAMP:20260421T174750
CREATED:20260302T093751Z
LAST-MODIFIED:20260310T084155Z
UID:14513-1768003200-1799625599@parrocchiamonzambano.it
SUMMARY:La Chiesa SS. Trinità di Olfino è stata dichiarata "Chiesa Giubilare"
DESCRIPTION:Segnaliamo che nella ricorrenza dell’Anno Giubilare Speciale Francescano\, indetto da papa Leone per ricordare l’800° anniversario del Transito di San Francesco (dal 10 gennaio 2026 al 10 gennaio 2027)  la chiesa di Olfino\, animata dalle Sorelle di San Francesco\, è stata dichiarata “Chiesa Giubilare”. \n\n\n\n\n\n\n\nPapa Leone XIV proclama l’Anno Giubilare Francescano per l’800º anniversario del transito di San Francesco d’Assisi\n\n\n\nCon gioia comunichiamo la promulgazione del Decreto che istituisce uno speciale Anno Giubilare in commemorazione dell’ottavo centenario del transito di San Francesco d’Assisi. Sua Santità Papa Leone XIV ha stabilito che\, dal 10 gennaio 2026 al 10 gennaio 2027\, si celebri questo Anno di San Francesco\, durante il quale tutti i fedeli cristiani sono invitati a seguire l’esempio del Santo di Assisi\, diventando modelli di santità di vita e testimoni instancabili di pace. La Penitenzieria Apostolica concede l’indulgenza plenaria\, alle consuete condizioni\, a quanti parteciperanno devotamente a questo straordinario Giubileo\, che rappresenta un’ideale continuazione del Giubileo Ordinario del 2025. \n\n\n\nQuesto Anno giubilare è rivolto in modo particolare ai membri delle Famiglie Francescane del Primo\, Secondo e Terzo Ordine Regolare e Secolare\, così come agli Istituti di vita consacrata\, alle Società di vita apostolica e alle Associazioni che osservano la Regola di San Francesco o si ispirano alla sua spiritualità. Tuttavia\, la grazia di questo anno speciale si estende anche a tutti i fedeli\, senza distinzione\, che\, con l’animo distaccato dal peccato\, visiteranno in forma di pellegrinaggio qualsiasi chiesa conventuale francescana o luogo di culto dedicato a San Francesco in qualunque parte del mondo. Gli anziani\, i malati e quanti\, per gravi motivi\, non possono uscire di casa\, potranno ugualmente ottenere l’indulgenza plenaria unendosi spiritualmente alle celebrazioni giubilari e offrendo a Dio le loro preghiere\, i loro dolori e le loro sofferenze. \n\n\n\nIn questo tempo di celebrazione\, che corona otto secoli di memoria francescana\, invitiamo cordialmente tutti i fedeli a prendere parte attiva a questo eccezionale Giubileo. Il luminoso esempio di San Francesco\, che seppe farsi povero e umile per essere un vero alter Christus sulla terra\, ispiri i nostri cuori a vivere nella carità cristiana autentica verso il prossimo e con sinceri desideri di concordia e di pace tra i popoli. Sulle orme del Poverello di Assisi\, trasformiamo la speranza che ci ha resi pellegrini durante l’Anno Santo in fervore e zelo di carità operosa. Questo Anno di San Francesco sia per ciascuno di noi un’occasione provvidenziale di santificazione e di testimonianza evangelica nel mondo contemporaneo\, a gloria di Dio e per il bene di tutta la Chiesa. \n\n\n\nCONDIZIONI PER RICEVERE L’INDULGENZA  (per sé o per i defunti) \n\n\n\n\nConfessione sacramentale per essere in grazia di Dio (negli otto giorni precedenti o seguenti);\n\n\n\nPartecipazione alla Messa e Comunione eucaristica;\n\n\n\nVisitare in forma di pellegrinaggio qualsiasi chiesa conventuale francescana o luogo di culto dedicato a San Francesco in qualunque parte del mondo\, dove si rinnova la professione di fede\, mediante la recita del Credo\, per riaffermare la propria identità cristiana;\n\n\n\nLa recita del Padre Nostro\, per riaffermare la propria dignità di figli di Dio\, ricevuta nel Battesimo;\n\n\n\nUna preghiera secondo le intenzioni del Papa\, per riaffermare la propria appartenenza alla Chiesa\, il cui fondamento e centro visibile di unità è il Romano Pontefice.
URL:http://parrocchiamonzambano.it/event/la-chiesa-ss-trinita-di-olfino-e-stata-dichiarata-chiesa-giubilare/
LOCATION:Chiesa Ss. Trinità\, Viale Pariani\, 4\, Olfino\, 46040\, Italia
CATEGORIES:Eventi,eventi Monzambano,eventi Parrocchia
END:VEVENT
BEGIN:VEVENT
DTSTART;TZID=Europe/Rome:20260306T074500
DTEND;TZID=Europe/Rome:20260306T075000
DTSTAMP:20260421T174750
CREATED:20260302T093022Z
LAST-MODIFIED:20260302T093023Z
UID:14505-1772783100-1772783400@parrocchiamonzambano.it
SUMMARY:Cinque minuti con Gesù
DESCRIPTION:il venerdi a 7.45 i “Cinque minuti con Gesù” per i ragazzi;                                                                                             
URL:http://parrocchiamonzambano.it/event/cinque-minuti-con-gesu/
LOCATION:Chiesa di San Michele Arcangelo\, Via Umberto I\, 92\, Monzambano\, 46040\, Italia
CATEGORIES:Eventi,eventi Parrocchia
END:VEVENT
BEGIN:VEVENT
DTSTART;TZID=Europe/Rome:20260306T163000
DTEND;TZID=Europe/Rome:20260306T163000
DTSTAMP:20260421T174750
CREATED:20260302T092240Z
LAST-MODIFIED:20260302T092241Z
UID:14490-1772814600-1772814600@parrocchiamonzambano.it
SUMMARY:Via Crucis
DESCRIPTION:
URL:http://parrocchiamonzambano.it/event/via-crucis-2/
LOCATION:Chiesa di San Michele Arcangelo\, Via Umberto I\, 92\, Monzambano\, 46040\, Italia
CATEGORIES:Eventi,eventi Parrocchia,S.Messe
END:VEVENT
BEGIN:VEVENT
DTSTART;TZID=Europe/Rome:20260308T111500
DTEND;TZID=Europe/Rome:20260308T111500
DTSTAMP:20260421T174750
CREATED:20260302T093359Z
LAST-MODIFIED:20260302T093400Z
UID:14507-1772968500-1772968500@parrocchiamonzambano.it
SUMMARY:Incontro con genitori dei ragazzi della Prima Confessione
DESCRIPTION:Alle ore 11.15 (dopo la Messa) invitiamo in San Michele i genitori dei ragazzi che sabato 14 celebreranno la loro Prima Confessione per prepararci insieme al sacramento.                                                                                                                  
URL:http://parrocchiamonzambano.it/event/incontro-con-genitori-dei-ragazzi-della-prima-confessione/
LOCATION:Chiesa di San Michele Arcangelo\, Via Umberto I\, 92\, Monzambano\, 46040\, Italia
CATEGORIES:Eventi,eventi Parrocchia
END:VEVENT
BEGIN:VEVENT
DTSTART;TZID=Europe/Rome:20260311T203000
DTEND;TZID=Europe/Rome:20260311T203000
DTSTAMP:20260421T174750
CREATED:20260310T074421Z
LAST-MODIFIED:20260310T074422Z
UID:14518-1773261000-1773261000@parrocchiamonzambano.it
SUMMARY:Ascolto del Vangelo
DESCRIPTION:il mercoledi sera alle 20.30 in San Michele l’Ascolto del Vangelo della domenica\, con un momento anche di condivisione a piccoli gruppi;
URL:http://parrocchiamonzambano.it/event/ascolto-del-vangelo/
LOCATION:Chiesa di San Michele Arcangelo\, Via Umberto I\, 92\, Monzambano\, 46040\, Italia
CATEGORIES:Eventi,eventi Parrocchia
END:VEVENT
BEGIN:VEVENT
DTSTART;TZID=Europe/Rome:20260313T074500
DTEND;TZID=Europe/Rome:20260313T075000
DTSTAMP:20260421T174750
CREATED:20260310T074507Z
LAST-MODIFIED:20260310T074508Z
UID:14520-1773387900-1773388200@parrocchiamonzambano.it
SUMMARY:Cinque minuti con Gesù
DESCRIPTION:il venerdi a 7.45 i “Cinque minuti con Gesù” per i ragazzi
URL:http://parrocchiamonzambano.it/event/cinque-minuti-con-gesu-2/
LOCATION:Chiesa di San Michele Arcangelo\, Via Umberto I\, 92\, Monzambano\, 46040\, Italia
CATEGORIES:Eventi,eventi Parrocchia
END:VEVENT
BEGIN:VEVENT
DTSTART;TZID=Europe/Rome:20260315T153000
DTEND;TZID=Europe/Rome:20260315T153000
DTSTAMP:20260421T174750
CREATED:20260310T083655Z
LAST-MODIFIED:20260310T083655Z
UID:14535-1773588600-1773588600@parrocchiamonzambano.it
SUMMARY:Ritiro a Fontanafredda
DESCRIPTION:Nel pomeriggio alle 15.30 a Fontanafredda ci sarà l’incontro/ritiro con i vari Consigli Pastorali della nostra Unità Pastorale.
URL:http://parrocchiamonzambano.it/event/ritiro-a-fontanafredda/
CATEGORIES:Eventi,eventi Parrocchia
END:VEVENT
BEGIN:VEVENT
DTSTART;TZID=Europe/Rome:20260318T203000
DTEND;TZID=Europe/Rome:20260318T203000
DTSTAMP:20260421T174750
CREATED:20260316T104019Z
LAST-MODIFIED:20260316T104019Z
UID:14573-1773865800-1773865800@parrocchiamonzambano.it
SUMMARY:Ascolto del Vangelo
DESCRIPTION:il mercoledi sera alle 20.30 in San Michele l’Ascolto del Vangelo della domenica\, con un momento anche di condivisione a piccoli gruppi                                                                             
URL:http://parrocchiamonzambano.it/event/ascolto-del-vangelo-2/
LOCATION:Chiesa di San Michele Arcangelo\, Via Umberto I\, 92\, Monzambano\, 46040\, Italia
CATEGORIES:Eventi,eventi Parrocchia
END:VEVENT
BEGIN:VEVENT
DTSTART;TZID=Europe/Rome:20260320T204500
DTEND;TZID=Europe/Rome:20260320T204500
DTSTAMP:20260421T174750
CREATED:20260316T103458Z
LAST-MODIFIED:20260316T104306Z
UID:14562-1774039500-1774039500@parrocchiamonzambano.it
SUMMARY:Via Crucis
DESCRIPTION:Le parrocchie della nostra Unità Pastorale propongono come gli anni scorsi la preghiera della Via Crucis da fare tutti insieme a Castellaro\, alle ore 20.45. Per questo è sospesa la Via Crucis delle 16.30 in San Michele.
URL:http://parrocchiamonzambano.it/event/via-crucis-4/
LOCATION:Castellaro Lagusello\, Castellaro Lagusello\, MN\, 46040\, Italia
CATEGORIES:Eventi,eventi Parrocchia
END:VEVENT
END:VCALENDAR