BEGIN:VCALENDAR
VERSION:2.0
PRODID:-//Parrocchia San Michele Arcangelo - ECPv6.15.20//NONSGML v1.0//EN
CALSCALE:GREGORIAN
METHOD:PUBLISH
X-WR-CALNAME:Parrocchia San Michele Arcangelo
X-ORIGINAL-URL:https://parrocchiamonzambano.it
X-WR-CALDESC:Eventi per Parrocchia San Michele Arcangelo
REFRESH-INTERVAL;VALUE=DURATION:PT1H
X-Robots-Tag:noindex
X-PUBLISHED-TTL:PT1H
BEGIN:VTIMEZONE
TZID:Europe/Rome
BEGIN:DAYLIGHT
TZOFFSETFROM:+0100
TZOFFSETTO:+0200
TZNAME:CEST
DTSTART:20250330T010000
END:DAYLIGHT
BEGIN:STANDARD
TZOFFSETFROM:+0200
TZOFFSETTO:+0100
TZNAME:CET
DTSTART:20251026T010000
END:STANDARD
BEGIN:DAYLIGHT
TZOFFSETFROM:+0100
TZOFFSETTO:+0200
TZNAME:CEST
DTSTART:20260329T010000
END:DAYLIGHT
BEGIN:STANDARD
TZOFFSETFROM:+0200
TZOFFSETTO:+0100
TZNAME:CET
DTSTART:20261025T010000
END:STANDARD
BEGIN:DAYLIGHT
TZOFFSETFROM:+0100
TZOFFSETTO:+0200
TZNAME:CEST
DTSTART:20270328T010000
END:DAYLIGHT
BEGIN:STANDARD
TZOFFSETFROM:+0200
TZOFFSETTO:+0100
TZNAME:CET
DTSTART:20271031T010000
END:STANDARD
END:VTIMEZONE
BEGIN:VEVENT
DTSTART;TZID=Europe/Rome:20260222T180000
DTEND;TZID=Europe/Rome:20260222T180000
DTSTAMP:20260425T230724
CREATED:20260216T145530Z
LAST-MODIFIED:20260216T145530Z
UID:14468-1771783200-1771783200@parrocchiamonzambano.it
SUMMARY:S.Messa - 1a Quaresima
DESCRIPTION:Giuseppe Vesentini e fam.
URL:https://parrocchiamonzambano.it/event/s-messa-1a-quaresima-2/
LOCATION:Chiesa Ss. Trinità\, Viale Pariani\, 4\, Olfino\, 46040\, Italia
CATEGORIES:S.Messe
END:VEVENT
BEGIN:VEVENT
DTSTART;TZID=Europe/Rome:20260222T153000
DTEND;TZID=Europe/Rome:20260222T153000
DTSTAMP:20260425T230724
CREATED:20260209T094604Z
LAST-MODIFIED:20260216T150037Z
UID:14439-1771774200-1771774200@parrocchiamonzambano.it
SUMMARY:Ritiro spirituale
DESCRIPTION:Si ricorda che nel pomeriggio a Fontanafredda alle 15.30 proponiamo il Ritiro di Quaresima con la nostra Unità Pastorale. Iscriversi entro giovedi\, segnalando chi si ferma per la cena. Dal piazzale partiremo con le auto alle ore 15.
URL:https://parrocchiamonzambano.it/event/ritiro-spirituale-2/
CATEGORIES:Eventi,eventi Parrocchia
END:VEVENT
BEGIN:VEVENT
DTSTART;TZID=Europe/Rome:20260222T100000
DTEND;TZID=Europe/Rome:20260222T100000
DTSTAMP:20260425T230724
CREATED:20260216T145454Z
LAST-MODIFIED:20260216T145455Z
UID:14466-1771754400-1771754400@parrocchiamonzambano.it
SUMMARY:S.Messa - 1a Quaresima
DESCRIPTION:Annamaria e Mario- deff.fam.Benedetto Giaretta- deff. fam.Pachera- Pietro e Emma- Silvano e Mattia
URL:https://parrocchiamonzambano.it/event/s-messa-1a-quaresima/
LOCATION:Chiesa di San Michele Arcangelo\, Via Umberto I\, 92\, Monzambano\, 46040\, Italia
CATEGORIES:S.Messe
END:VEVENT
BEGIN:VEVENT
DTSTART;TZID=Europe/Rome:20260222T083000
DTEND;TZID=Europe/Rome:20260222T083000
DTSTAMP:20260425T230724
CREATED:20260216T145349Z
LAST-MODIFIED:20260216T145607Z
UID:14463-1771749000-1771749000@parrocchiamonzambano.it
SUMMARY:S.Messa – 1a Quaresima
DESCRIPTION:Luigi e deff.fam.Deidonè- Laura\,Giuseppina\, Primo
URL:https://parrocchiamonzambano.it/event/s-messa-59/
LOCATION:Chiesa di San Michele Arcangelo\, Via Umberto I\, 92\, Monzambano\, 46040\, Italia
CATEGORIES:S.Messe
END:VEVENT
BEGIN:VEVENT
DTSTART;TZID=Europe/Rome:20260221T183000
DTEND;TZID=Europe/Rome:20260221T183000
DTSTAMP:20260425T230724
CREATED:20260216T145309Z
LAST-MODIFIED:20260216T145413Z
UID:14461-1771698600-1771698600@parrocchiamonzambano.it
SUMMARY:S.Messa
DESCRIPTION:Claudio- Marino- Carolina\, Aurelio\, Francesco
URL:https://parrocchiamonzambano.it/event/s-messa-49/
LOCATION:Chiesa di San Michele Arcangelo\, Via Umberto I\, 92\, Monzambano\, 46040\, Italia
CATEGORIES:S.Messe
END:VEVENT
BEGIN:VEVENT
DTSTART;TZID=Europe/Rome:20260220T183000
DTEND;TZID=Europe/Rome:20260220T183000
DTSTAMP:20260425T230724
CREATED:20260216T145236Z
LAST-MODIFIED:20260216T145236Z
UID:14459-1771612200-1771612200@parrocchiamonzambano.it
SUMMARY:S.Messa
DESCRIPTION:
URL:https://parrocchiamonzambano.it/event/s-messa-48/
LOCATION:Oratorio di Santa Maria Annunciata\, detta chiesa della Disciplina\, Monzambano\, 46040\, Italia
CATEGORIES:S.Messe
END:VEVENT
BEGIN:VEVENT
DTSTART;TZID=Europe/Rome:20260220T163000
DTEND;TZID=Europe/Rome:20260220T163000
DTSTAMP:20260425T230724
CREATED:20260216T150008Z
LAST-MODIFIED:20260216T150009Z
UID:14470-1771605000-1771605000@parrocchiamonzambano.it
SUMMARY:Via Crucis
DESCRIPTION:Nel pomeriggio alle 16.30 la preghiera della Via Crucis\, per tutti.
URL:https://parrocchiamonzambano.it/event/via-crucis/
LOCATION:Chiesa di San Michele Arcangelo\, Via Umberto I\, 92\, Monzambano\, 46040\, Italia
CATEGORIES:Eventi,eventi Parrocchia
END:VEVENT
BEGIN:VEVENT
DTSTART;TZID=Europe/Rome:20260219T183000
DTEND;TZID=Europe/Rome:20260219T183000
DTSTAMP:20260425T230724
CREATED:20260216T145204Z
LAST-MODIFIED:20260216T145205Z
UID:14457-1771525800-1771525800@parrocchiamonzambano.it
SUMMARY:S.Messa
DESCRIPTION:deff.Battilana/Zenegaglia- Massimo- Alice\, Cesira e Luigi
URL:https://parrocchiamonzambano.it/event/s-messa-46/
LOCATION:Oratorio di Santa Maria Annunciata\, detta chiesa della Disciplina\, Monzambano\, 46040\, Italia
CATEGORIES:S.Messe
END:VEVENT
BEGIN:VEVENT
DTSTART;TZID=Europe/Rome:20260219T074500
DTEND;TZID=Europe/Rome:20260219T074500
DTSTAMP:20260425T230724
CREATED:20260216T145906Z
LAST-MODIFIED:20260216T145906Z
UID:14474-1771487100-1771487100@parrocchiamonzambano.it
SUMMARY:5 Minuti con Gesù
DESCRIPTION:Al mattino proponiamo per i ragazzi e per i genitori che desiderano “5 Minuti con Gesù”\, una breve preghiera di quaresima prima di andare a scuola\, alle ore 7.45.
URL:https://parrocchiamonzambano.it/event/5-minuti-con-gesu/
LOCATION:Chiesa di San Michele Arcangelo\, Via Umberto I\, 92\, Monzambano\, 46040\, Italia
CATEGORIES:Eventi,eventi Parrocchia
END:VEVENT
BEGIN:VEVENT
DTSTART;TZID=Europe/Rome:20260218T203000
DTEND;TZID=Europe/Rome:20260218T203000
DTSTAMP:20260425T230724
CREATED:20260216T145113Z
LAST-MODIFIED:20260216T145125Z
UID:14455-1771446600-1771446600@parrocchiamonzambano.it
SUMMARY:Celebrazione delle Ceneri
DESCRIPTION:Ricordiamo per tempo che mercoledi 18 inizierà il tempo della Quaresima\, con la Celebrazione delle Ceneri.
URL:https://parrocchiamonzambano.it/event/celebrazione-delle-ceneri-2/
LOCATION:Chiesa di San Michele Arcangelo\, Via Umberto I\, 92\, Monzambano\, 46040\, Italia
CATEGORIES:Eventi,eventi Parrocchia,S.Messe
END:VEVENT
BEGIN:VEVENT
DTSTART;TZID=Europe/Rome:20260218T163000
DTEND;TZID=Europe/Rome:20260218T163000
DTSTAMP:20260425T230724
CREATED:20260209T094459Z
LAST-MODIFIED:20260216T145038Z
UID:14437-1771432200-1771432200@parrocchiamonzambano.it
SUMMARY:Celebrazione delle Ceneri
DESCRIPTION:Ricordiamo per tempo che mercoledi 18 inizierà il tempo della Quaresima\, con la Celebrazione delle Ceneri. \n\n\n\nCelebrazione delle Ceneri con i ragazzi
URL:https://parrocchiamonzambano.it/event/celebrazione-delle-ceneri/
CATEGORIES:Eventi,eventi Parrocchia,S.Messe
END:VEVENT
BEGIN:VEVENT
DTSTART;TZID=Europe/Rome:20260217T183000
DTEND;TZID=Europe/Rome:20260217T183000
DTSTAMP:20260425T230724
CREATED:20260216T144855Z
LAST-MODIFIED:20260216T144855Z
UID:14451-1771353000-1771353000@parrocchiamonzambano.it
SUMMARY:S.Messa
DESCRIPTION:
URL:https://parrocchiamonzambano.it/event/s-messa-45/
LOCATION:Oratorio di Santa Maria Annunciata\, detta chiesa della Disciplina\, Monzambano\, 46040\, Italia
CATEGORIES:S.Messe
END:VEVENT
BEGIN:VEVENT
DTSTART;TZID=Europe/Rome:20260217T140000
DTEND;TZID=Europe/Rome:20260217T170000
DTSTAMP:20260425T230724
CREATED:20260216T145817Z
LAST-MODIFIED:20260216T145818Z
UID:14472-1771336800-1771347600@parrocchiamonzambano.it
SUMMARY:Carnevale
DESCRIPTION:In Oratorio nel pomeriggio il Carnevale per i bambini e iragazzi.
URL:https://parrocchiamonzambano.it/event/carnevale/
LOCATION:Oratorio\, Vicolo Canonica\, 6-8\, Monzambano\, 46040\, Italia
CATEGORIES:Eventi
END:VEVENT
BEGIN:VEVENT
DTSTART;TZID=Europe/Rome:20260216T183000
DTEND;TZID=Europe/Rome:20260216T183000
DTSTAMP:20260425T230724
CREATED:20260216T144829Z
LAST-MODIFIED:20260216T144830Z
UID:14449-1771266600-1771266600@parrocchiamonzambano.it
SUMMARY:S.Messa
DESCRIPTION:Roberta\, Luigina e Valter
URL:https://parrocchiamonzambano.it/event/s-messa-44/
LOCATION:Oratorio di Santa Maria Annunciata\, detta chiesa della Disciplina\, Monzambano\, 46040\, Italia
CATEGORIES:S.Messe
END:VEVENT
BEGIN:VEVENT
DTSTART;TZID=Europe/Rome:20260215T180000
DTEND;TZID=Europe/Rome:20260215T180000
DTSTAMP:20260425T230724
CREATED:20260209T094333Z
LAST-MODIFIED:20260209T094335Z
UID:14434-1771178400-1771178400@parrocchiamonzambano.it
SUMMARY:S.Messa
DESCRIPTION:A partire da questa domenica 15\, su invito del vescovo e in linea con gli orientamenti pastorali diocesani\, le sante Messe festive saranno presiedute a rotazione dai vari parroci della nostra Unità Pastorale. Questo per favorire più comunione tra le comunità e crescere nella condivisione.
URL:https://parrocchiamonzambano.it/event/s-messa-40/
LOCATION:Chiesa Ss. Trinità\, Viale Pariani\, 4\, Olfino\, 46040\, Italia
CATEGORIES:S.Messe
END:VEVENT
BEGIN:VEVENT
DTSTART;TZID=Europe/Rome:20260215T100000
DTEND;TZID=Europe/Rome:20260215T100000
DTSTAMP:20260425T230724
CREATED:20260209T094057Z
LAST-MODIFIED:20260209T094301Z
UID:14430-1771149600-1771149600@parrocchiamonzambano.it
SUMMARY:S.Messa
DESCRIPTION:A partire da questa domenica 15\, su invito del vescovo e in linea con gli orientamenti pastorali diocesani\, le sante Messe festive saranno presiedute a rotazione dai vari parroci della nostra Unità Pastorale. Questo per favorire più comunione tra le comunità e crescere nella condivisione. \n\n\n\nIntenzioni: Giovanni e Maria – Cristiano e Maria – Silvana e Tito – Francesco
URL:https://parrocchiamonzambano.it/event/s-messa-38/
LOCATION:Chiesa di San Michele Arcangelo\, Via Umberto I\, 92\, Monzambano\, 46040\, Italia
CATEGORIES:S.Messe
END:VEVENT
BEGIN:VEVENT
DTSTART;TZID=Europe/Rome:20260215T083000
DTEND;TZID=Europe/Rome:20260215T083000
DTSTAMP:20260425T230724
CREATED:20260209T094230Z
LAST-MODIFIED:20260209T094231Z
UID:14432-1771144200-1771144200@parrocchiamonzambano.it
SUMMARY:S.Messa
DESCRIPTION:A partire da questa domenica 15\, su invito del vescovo e in linea con gli orientamenti pastorali diocesani\, le sante Messe festive saranno presiedute a rotazione dai vari parroci della nostra Unità Pastorale. Questo per favorire più comunione tra le comunità e crescere nella condivisione. \n\n\n\nintenzione: Giuseppe
URL:https://parrocchiamonzambano.it/event/s-messa-39/
LOCATION:Chiesa di San Michele Arcangelo\, Via Umberto I\, 92\, Monzambano\, 46040\, Italia
CATEGORIES:S.Messe
END:VEVENT
BEGIN:VEVENT
DTSTART;TZID=Europe/Rome:20260214T150000
DTEND;TZID=Europe/Rome:20260214T150000
DTSTAMP:20260425T230724
CREATED:20260209T093815Z
LAST-MODIFIED:20260209T093815Z
UID:14428-1771081200-1771081200@parrocchiamonzambano.it
SUMMARY:Incontro per tutte le coppie
DESCRIPTION:Si ricorda San Valentino patrono degli innamorati. La diocesi nell’occasione dell’anno dedicato a San Luigi\, organizza un incontro per tutte le coppie a Castiglion delle Stiviere presso il santuario (di San Luigi) alle ore 15\, con un momento di preghiera\, riflessione del Vescovo e benedizione delle coppie.
URL:https://parrocchiamonzambano.it/event/incontro-per-tutte-le-coppie/
LOCATION:Castiglione delle Stiviere\, Piazza S. Luigi\, 7\, Castiglione delle Stiviere\, MN\, 46043\, Italia
CATEGORIES:Eventi,eventi Parrocchia
END:VEVENT
BEGIN:VEVENT
DTSTART;TZID=Europe/Rome:20260213T183000
DTEND;TZID=Europe/Rome:20260213T183000
DTSTAMP:20260425T230724
CREATED:20260209T094957Z
LAST-MODIFIED:20260209T095000Z
UID:14447-1771007400-1771007400@parrocchiamonzambano.it
SUMMARY:S.Messa
DESCRIPTION:
URL:https://parrocchiamonzambano.it/event/s-messa-58/
LOCATION:Chiesa di San Michele Arcangelo\, Via Umberto I\, 92\, Monzambano\, 46040\, Italia
END:VEVENT
BEGIN:VEVENT
DTSTART;TZID=Europe/Rome:20260212T203000
DTEND;TZID=Europe/Rome:20260212T203000
DTSTAMP:20260425T230724
CREATED:20260209T093635Z
LAST-MODIFIED:20260209T093638Z
UID:14426-1770928200-1770928200@parrocchiamonzambano.it
SUMMARY:2° incontro per coppie che si preparano al Matrimonio
DESCRIPTION:Il secondo degli incontri con le coppie che desiderano preparare il sacramento del Matrimonio. Il ritrovo è nella saletta sotto la canonica alle ore 20.30
URL:https://parrocchiamonzambano.it/event/2-incontro-per-coppie-che-si-preparano-al-matrimonio/
LOCATION:Canonica
CATEGORIES:Eventi,eventi Parrocchia
END:VEVENT
BEGIN:VEVENT
DTSTART;TZID=Europe/Rome:20260212T183000
DTEND;TZID=Europe/Rome:20260212T183000
DTSTAMP:20260425T230724
CREATED:20260209T094926Z
LAST-MODIFIED:20260209T094928Z
UID:14445-1770921000-1770921000@parrocchiamonzambano.it
SUMMARY:S.Messa
DESCRIPTION:
URL:https://parrocchiamonzambano.it/event/s-messa-43/
LOCATION:Oratorio di Santa Maria Annunciata\, detta chiesa della Disciplina\, Monzambano\, 46040\, Italia
CATEGORIES:S.Messe
END:VEVENT
BEGIN:VEVENT
DTSTART;TZID=Europe/Rome:20260211T183000
DTEND;TZID=Europe/Rome:20260211T183000
DTSTAMP:20260425T230724
CREATED:20260209T093437Z
LAST-MODIFIED:20260209T093508Z
UID:14423-1770834600-1770834600@parrocchiamonzambano.it
SUMMARY:S.Messa - Giornata Mondiale del Malato
DESCRIPTION:E’ la memoria della Beata Vergine Maria di Lourdes e si celebra la Giornata Mondiale del Malato. \n\n\n\nIntenzioni: Marisa – Santina – Vettore\, Palmiro e Mario
URL:https://parrocchiamonzambano.it/event/s-messa-giornata-mondiale-del-malato/
LOCATION:Chiesa Ss. Trinità\, Viale Pariani\, 4\, Olfino\, 46040\, Italia
CATEGORIES:S.Messe
END:VEVENT
BEGIN:VEVENT
DTSTART;TZID=Europe/Rome:20260210T183000
DTEND;TZID=Europe/Rome:20260210T183000
DTSTAMP:20260425T230724
CREATED:20260209T094843Z
LAST-MODIFIED:20260209T094847Z
UID:14443-1770748200-1770748200@parrocchiamonzambano.it
SUMMARY:S.Messa
DESCRIPTION:Maria – Santina – Vettore\, Palmiro e Mario
URL:https://parrocchiamonzambano.it/event/s-messa-42/
LOCATION:Oratorio di Santa Maria Annunciata\, detta chiesa della Disciplina\, Monzambano\, 46040\, Italia
CATEGORIES:S.Messe
END:VEVENT
BEGIN:VEVENT
DTSTART;TZID=Europe/Rome:20260210T000000
DTEND;TZID=Europe/Rome:20260210T235959
DTSTAMP:20260425T230724
CREATED:20260209T093154Z
LAST-MODIFIED:20260209T093203Z
UID:14421-1770681600-1770767999@parrocchiamonzambano.it
SUMMARY:Direttivo dell'oratorio
DESCRIPTION:Si  riunisce il Direttivo del nostro Oratorio in vista della elezione del nuovo direttivo per il prossimo triennio.
URL:https://parrocchiamonzambano.it/event/direttivo-delloratorio/
CATEGORIES:eventi Oratorio
END:VEVENT
BEGIN:VEVENT
DTSTART;TZID=Europe/Rome:20260209T183000
DTEND;TZID=Europe/Rome:20260209T183000
DTSTAMP:20260425T230724
CREATED:20260209T094748Z
LAST-MODIFIED:20260209T094749Z
UID:14441-1770661800-1770661800@parrocchiamonzambano.it
SUMMARY:S.Messa
DESCRIPTION:Carlo
URL:https://parrocchiamonzambano.it/event/s-messa-41/
LOCATION:Oratorio di Santa Maria Annunciata\, detta chiesa della Disciplina\, Monzambano\, 46040\, Italia
CATEGORIES:S.Messe
END:VEVENT
BEGIN:VEVENT
DTSTART;TZID=Europe/Rome:20260201T180000
DTEND;TZID=Europe/Rome:20260201T180000
DTSTAMP:20260425T230724
CREATED:20260126T090505Z
LAST-MODIFIED:20260126T093614Z
UID:14403-1769968800-1769968800@parrocchiamonzambano.it
SUMMARY:S.Messa - 48° Giornata per la Vita
DESCRIPTION:def. fam. Troni – Fiorenza
URL:https://parrocchiamonzambano.it/event/s-messa-83/
LOCATION:Chiesa Ss. Trinità\, Viale Pariani\, 4\, Olfino\, 46040\, Italia
CATEGORIES:S.Messe
END:VEVENT
BEGIN:VEVENT
DTSTART;TZID=Europe/Rome:20260201T100000
DTEND;TZID=Europe/Rome:20260201T100000
DTSTAMP:20260425T230724
CREATED:20260126T090440Z
LAST-MODIFIED:20260126T093655Z
UID:14401-1769940000-1769940000@parrocchiamonzambano.it
SUMMARY:S.Messa - 48° Giornata per la Vita
DESCRIPTION:Rita – Giorgio – Attilio e def. Bompieri/Corradini – Franco\, Silvio – Luigi e def. fam. Simeoni
URL:https://parrocchiamonzambano.it/event/s-messa-82/
LOCATION:Chiesa di San Michele Arcangelo\, Via Umberto I\, 92\, Monzambano\, 46040\, Italia
CATEGORIES:S.Messe
END:VEVENT
BEGIN:VEVENT
DTSTART;TZID=Europe/Rome:20260201T083000
DTEND;TZID=Europe/Rome:20260201T083000
DTSTAMP:20260425T230724
CREATED:20260126T090413Z
LAST-MODIFIED:20260126T093710Z
UID:14399-1769934600-1769934600@parrocchiamonzambano.it
SUMMARY:S.Messa - 48° Giornata per la Vita
DESCRIPTION:
URL:https://parrocchiamonzambano.it/event/s-messa-57/
LOCATION:Chiesa di San Michele Arcangelo\, Via Umberto I\, 92\, Monzambano\, 46040\, Italia
CATEGORIES:S.Messe
END:VEVENT
BEGIN:VEVENT
DTSTART;TZID=Europe/Rome:20260131T183000
DTEND;TZID=Europe/Rome:20260131T183000
DTSTAMP:20260425T230724
CREATED:20260126T090246Z
LAST-MODIFIED:20260126T090809Z
UID:14397-1769884200-1769884200@parrocchiamonzambano.it
SUMMARY:S.Messa - san Giovanni Bosco
DESCRIPTION:Ricordiamo san Giovanni Bosco\, patrono degli oratori e grande educatore dei giovani. \n\n\n\nBruna\, Francesco e Andrea – Vittorino – Franco – Giovanni\, Vittorino\, Guerrino e Laura
URL:https://parrocchiamonzambano.it/event/s-messa-56/
LOCATION:Chiesa di San Michele Arcangelo\, Via Umberto I\, 92\, Monzambano\, 46040\, Italia
CATEGORIES:S.Messe
END:VEVENT
BEGIN:VEVENT
DTSTART;TZID=Europe/Rome:20260130T183000
DTEND;TZID=Europe/Rome:20260130T183000
DTSTAMP:20260425T230724
CREATED:20260126T090141Z
LAST-MODIFIED:20260126T090142Z
UID:14395-1769797800-1769797800@parrocchiamonzambano.it
SUMMARY:S.Messa
DESCRIPTION:
URL:https://parrocchiamonzambano.it/event/s-messa-55/
LOCATION:Oratorio di Santa Maria Annunciata\, detta chiesa della Disciplina\, Monzambano\, 46040\, Italia
CATEGORIES:S.Messe
END:VEVENT
END:VCALENDAR